BEGIN:VCALENDAR
VERSION:2.0
PRODID:-//jEvents 2.0 for Joomla//EN
CALSCALE:GREGORIAN
METHOD:PUBLISH
BEGIN:VTIMEZONE
TZID:Europe/Berlin
BEGIN:STANDARD
DTSTART:20181028T020000
RDATE:20190331T030000
TZOFFSETFROM:+0200
TZOFFSETTO:+0100
TZNAME:Europe/Berlin CET
END:STANDARD
BEGIN:STANDARD
DTSTART:20191027T020000
RDATE:20200329T030000
TZOFFSETFROM:+0200
TZOFFSETTO:+0100
TZNAME:Europe/Berlin CET
END:STANDARD
BEGIN:STANDARD
DTSTART:20201025T020000
RDATE:20210328T030000
TZOFFSETFROM:+0200
TZOFFSETTO:+0100
TZNAME:Europe/Berlin CET
END:STANDARD
BEGIN:STANDARD
DTSTART:20211031T020000
RDATE:20220327T030000
TZOFFSETFROM:+0200
TZOFFSETTO:+0100
TZNAME:Europe/Berlin CET
END:STANDARD
BEGIN:STANDARD
DTSTART:20221030T020000
RDATE:20230326T030000
TZOFFSETFROM:+0200
TZOFFSETTO:+0100
TZNAME:Europe/Berlin CET
END:STANDARD
BEGIN:STANDARD
DTSTART:20231029T020000
RDATE:20240331T030000
TZOFFSETFROM:+0200
TZOFFSETTO:+0100
TZNAME:Europe/Berlin CET
END:STANDARD
BEGIN:STANDARD
DTSTART:20241027T020000
RDATE:20250330T030000
TZOFFSETFROM:+0200
TZOFFSETTO:+0100
TZNAME:Europe/Berlin CET
END:STANDARD
BEGIN:STANDARD
DTSTART:20251026T020000
RDATE:20260329T030000
TZOFFSETFROM:+0200
TZOFFSETTO:+0100
TZNAME:Europe/Berlin CET
END:STANDARD
BEGIN:DAYLIGHT
DTSTART:20180326T010000
RDATE:20181028T020000
TZOFFSETFROM:+0100
TZOFFSETTO:+0200
TZNAME:Europe/Berlin CEST
END:DAYLIGHT
BEGIN:DAYLIGHT
DTSTART:20190331T030000
RDATE:20191027T020000
TZOFFSETFROM:+0100
TZOFFSETTO:+0200
TZNAME:Europe/Berlin CEST
END:DAYLIGHT
BEGIN:DAYLIGHT
DTSTART:20200329T030000
RDATE:20201025T020000
TZOFFSETFROM:+0100
TZOFFSETTO:+0200
TZNAME:Europe/Berlin CEST
END:DAYLIGHT
BEGIN:DAYLIGHT
DTSTART:20210328T030000
RDATE:20211031T020000
TZOFFSETFROM:+0100
TZOFFSETTO:+0200
TZNAME:Europe/Berlin CEST
END:DAYLIGHT
BEGIN:DAYLIGHT
DTSTART:20220327T030000
RDATE:20221030T020000
TZOFFSETFROM:+0100
TZOFFSETTO:+0200
TZNAME:Europe/Berlin CEST
END:DAYLIGHT
BEGIN:DAYLIGHT
DTSTART:20230326T030000
RDATE:20231029T020000
TZOFFSETFROM:+0100
TZOFFSETTO:+0200
TZNAME:Europe/Berlin CEST
END:DAYLIGHT
BEGIN:DAYLIGHT
DTSTART:20240331T030000
RDATE:20241027T020000
TZOFFSETFROM:+0100
TZOFFSETTO:+0200
TZNAME:Europe/Berlin CEST
END:DAYLIGHT
BEGIN:DAYLIGHT
DTSTART:20250330T030000
RDATE:20251026T020000
TZOFFSETFROM:+0100
TZOFFSETTO:+0200
TZNAME:Europe/Berlin CEST
END:DAYLIGHT
END:VTIMEZONE
BEGIN:VEVENT
UID:d60e17528362b1544145b316157591cc
CATEGORIES:Arbeitseinsätze
CREATED:20190106T145646
SUMMARY:Frühjahrsinstandsetzung der Tennisplätze (Tennis-Service Kraft GmbH)
LOCATION:Ruhlsdorferstraße Nr. 7\, 14979 Großbeeren
DESCRIPTION:<p>Wird durch die Firma&nbsp;Tennis-Service Kraft GmbH durchgeführt</p><!--
  START: Modules Anywhere --><div class="osmodul" id="map242"></div>
<script
  type="text/javascript">var map242       = new L.Map('map242', {tap: false}
 );
    map242.attributionControl.setPrefix('');
var baselayer242 = new L.Ti
 leLayer('https://{s}.tile.openstreetmap.de/tiles/osmde/{z}/{x}/{y}.png', {m
 axZoom: 18, noWrap: false, attribution: '<a href="https://www.openstreetmap
 .org/copyright" target="_blank">© OpenStreetMap contributors</a>'});
var ko
 ord242     = new L.LatLng(52.356411, 13.296762);
L.control.scale({metric:tr
 ue,imperial:false}).addTo(map242);
map242.attributionControl.addAttribution
 ('Grafik von <a href="https://www.openstreetmap.de/">Openstreetmap.de</a> (
 <a href="https://creativecommons.org/licenses/by-sa/3.0/">CC-BY-SA</a>)');

 var customIcon242 = L.icon({
                                              
          iconUrl:      'https://www.cbits-berlin.org/images/logos/TCRWGB_Wa
 ppen_sehr_klein.png',
                                                     
   shadowUrl:    'https://www.cbits-berlin.org/',
                          
                              iconSize:     [24,24],
                       
                                 shadowSize:   [0,0],
                      
                                  iconAnchor:   [0,0],
                     
                                   popupAnchor:  [0,0]
                     
                                   
                                        
            });
var marker242 = new L.Marker(koord242, {icon: customIcon242}
 );
map242.addLayer(marker242);
// set map view
map242.setView(koord242, 17)
 .addLayer(baselayer242);
// additional Pins
;
</script><!-- END: Modules An
 ywhere -->
DTSTAMP:20260420T094100
DTSTART;TZID=Europe/Berlin;VALUE=DATE:20190327
DTEND;TZID=Europe/Berlin;VALUE=DATE:20190401
SEQUENCE:0
TRANSP:OPAQUE
END:VEVENT
END:VCALENDAR